BEGIN:VCALENDAR
VERSION:2.0
PRODID:-//Pictures London//Cinema Listings//EN
CALSCALE:GREGORIAN
METHOD:PUBLISH
X-WR-CALNAME:Pictures London Cinema
BEGIN:VEVENT
UID:bf8c9d25-ba4a-440d-b452-14ed54728bdc@pictures.london
DTSTART:20260426T104500Z
DTEND:20260426T131200Z
SUMMARY:Woman in the Dunes (1964) at Prince Charles Cinema
DESCRIPTION:Woman in the Dunes (1964)\nat Prince Charles Cinema\nFormat: 35MM\nBook: https://princecharlescinema.com/prince-charles-cinema/booknow/31625624\nvia Pictures (pictures.london)
LOCATION:Prince Charles Cinema\, 7 Leicester Place\, Leicester Square\, WC2H 7BY
URL:https://princecharlescinema.com/prince-charles-cinema/booknow/31625624
STATUS:CONFIRMED
END:VEVENT
END:VCALENDAR