BEGIN:VCALENDAR
VERSION:2.0
PRODID:-//Pictures London//Cinema Listings//EN
CALSCALE:GREGORIAN
METHOD:PUBLISH
X-WR-CALNAME:Pictures London Cinema
BEGIN:VEVENT
UID:bf76be60-22d2-4b8d-89c9-3d4e82f5faec@pictures.london
DTSTART:20260421T124500Z
DTEND:20260421T144500Z
SUMMARY:AKIRA (2026 Re-release) (Subbed) (2026) at Everyman Broadgate
DESCRIPTION:AKIRA (2026 Re-release) (Subbed) (2026)\nat Everyman Broadgate\nFormat: DCP_4K\nBook: https://purchase.everymancinema.com/launch/ticketing/7bf23471-0ab6-5c9e-8761-561e885205ee\nvia Pictures (pictures.london)
LOCATION:Everyman Broadgate\, Broadgate Circle\, Liverpool Street\, EC2M 2QS
URL:https://purchase.everymancinema.com/launch/ticketing/7bf23471-0ab6-5c9e-8761-561e885205ee
STATUS:CONFIRMED
END:VEVENT
END:VCALENDAR