BEGIN:VCALENDAR
VERSION:2.0
PRODID:-//Pictures London//Cinema Listings//EN
CALSCALE:GREGORIAN
METHOD:PUBLISH
X-WR-CALNAME:Pictures London Cinema
BEGIN:VEVENT
UID:bf4d6a88-8e5b-4df3-bab7-ea74414412bc@pictures.london
DTSTART:20260423T210000Z
DTEND:20260423T230000Z
SUMMARY:Bait- Mark Jenkin Retrospective at Genesis Cinema
DESCRIPTION:Bait- Mark Jenkin Retrospective\nat Genesis Cinema\nBook: https://genesis.admit-one.co.uk/seats/?perfCode=9728\nvia Pictures (pictures.london)
LOCATION:Genesis Cinema\, 93-95 Mile End Road\, Mile End\, E1 4UJ
URL:https://genesis.admit-one.co.uk/seats/?perfCode=9728
STATUS:CONFIRMED
END:VEVENT
END:VCALENDAR