BEGIN:VCALENDAR
VERSION:2.0
PRODID:-//Pictures London//Cinema Listings//EN
CALSCALE:GREGORIAN
METHOD:PUBLISH
X-WR-CALNAME:Pictures London Cinema
BEGIN:VEVENT
UID:bf08b77f-f690-4b97-8238-4ad1847eb9f0@pictures.london
DTSTART:20260518T133000Z
DTEND:20260518T153000Z
SUMMARY:Classic Matinee: HARD TRUTHS (2024) at Rio Cinema
DESCRIPTION:Classic Matinee: HARD TRUTHS (2024)\nat Rio Cinema\nBook: https://riocinema.org.uk/Rio.dll/WhatsOn?f=2266014\nvia Pictures (pictures.london)
LOCATION:Rio Cinema\, 107 Kingsland High Street\, Dalston\, E8 2PB
URL:https://riocinema.org.uk/Rio.dll/WhatsOn?f=2266014
STATUS:CONFIRMED
END:VEVENT
END:VCALENDAR