BEGIN:VCALENDAR
VERSION:2.0
PRODID:-//Pictures London//Cinema Listings//EN
CALSCALE:GREGORIAN
METHOD:PUBLISH
X-WR-CALNAME:Pictures London Cinema
BEGIN:VEVENT
UID:becd69aa-2c0b-4169-a935-1723f090d4b5@pictures.london
DTSTART:20260421T170000Z
DTEND:20260421T185700Z
SUMMARY:The Stranger (2022) at Cine Lumiere
DESCRIPTION:The Stranger (2022)\nat Cine Lumiere\nBook: https://cinelumiere.savoysystems.co.uk/CineLumiere.dll/TSelectItems.waSelectItemsPrompt.TcsWebMenuItem_600.TcsWebTab_601.TcsPerformance_6702935.TcsSection_1928774\nvia Pictures (pictures.london)
LOCATION:Cine Lumiere\, 17 Queensberry Place\, South Kensington\, SW7 2DT
URL:https://cinelumiere.savoysystems.co.uk/CineLumiere.dll/TSelectItems.waSelectItemsPrompt.TcsWebMenuItem_600.TcsWebTab_601.TcsPerformance_6702935.TcsSection_1928774
STATUS:CONFIRMED
END:VEVENT
END:VCALENDAR