BEGIN:VCALENDAR
VERSION:2.0
PRODID:-//Pictures London//Cinema Listings//EN
CALSCALE:GREGORIAN
METHOD:PUBLISH
X-WR-CALNAME:Pictures London Cinema
BEGIN:VEVENT
UID:be88b8f6-fb16-4b46-8934-ed8f7b576097@pictures.london
DTSTART:20260424T174500Z
DTEND:20260424T193700Z
SUMMARY:Mother Mary (2026) at Everyman King's Cross
DESCRIPTION:Mother Mary (2026)\nat Everyman King's Cross\nBook: https://purchase.everymancinema.com/launch/ticketing/2bdec1f3-a046-50c4-964f-87a536f875e2\nvia Pictures (pictures.london)
LOCATION:Everyman King's Cross\, Coal Drops Yard\, King's Cross\, N1C 4AG
URL:https://purchase.everymancinema.com/launch/ticketing/2bdec1f3-a046-50c4-964f-87a536f875e2
STATUS:CONFIRMED
END:VEVENT
END:VCALENDAR