BEGIN:VCALENDAR
VERSION:2.0
PRODID:-//Pictures London//Cinema Listings//EN
CALSCALE:GREGORIAN
METHOD:PUBLISH
X-WR-CALNAME:Pictures London Cinema
BEGIN:VEVENT
UID:be844745-4fda-4808-858d-3998af5d480c@pictures.london
DTSTART:20260421T152000Z
DTEND:20260421T170700Z
SUMMARY:California Schemin' (2026) at East Dulwich Picturehouse
DESCRIPTION:California Schemin' (2026)\nat East Dulwich Picturehouse\nBook: https://www.picturehouses.com/movie-details/009/HO00017757/california-schemin\nvia Pictures (pictures.london)
LOCATION:East Dulwich Picturehouse\, Lordship Lane\, East Dulwich\, SE22 8EW
URL:https://www.picturehouses.com/movie-details/009/HO00017757/california-schemin
STATUS:CONFIRMED
END:VEVENT
END:VCALENDAR