BEGIN:VCALENDAR
VERSION:2.0
PRODID:-//Pictures London//Cinema Listings//EN
CALSCALE:GREGORIAN
METHOD:PUBLISH
X-WR-CALNAME:Pictures London Cinema
BEGIN:VEVENT
UID:be7b59b7-1375-4da6-a68b-e60eefa26e6b@pictures.london
DTSTART:20260421T173000Z
DTEND:20260421T191500Z
SUMMARY:The Drama (2026) at Curzon Mayfair
DESCRIPTION:The Drama (2026)\nat Curzon Mayfair\nBook: https://www.curzon.com/films/the-drama/HO00006892/\nvia Pictures (pictures.london)
LOCATION:Curzon Mayfair\, 38 Curzon Street\, Mayfair\, W1J 7SH
URL:https://www.curzon.com/films/the-drama/HO00006892/
STATUS:CONFIRMED
END:VEVENT
END:VCALENDAR