BEGIN:VCALENDAR
VERSION:2.0
PRODID:-//Pictures London//Cinema Listings//EN
CALSCALE:GREGORIAN
METHOD:PUBLISH
X-WR-CALNAME:Pictures London Cinema
BEGIN:VEVENT
UID:bdf21899-55a1-4004-a715-701a5e5dbcd4@pictures.london
DTSTART:20260421T143000Z
DTEND:20260421T162700Z
SUMMARY:Days and Nights in the Forest (1970) at BFI Southbank
DESCRIPTION:Days and Nights in the Forest (1970)\nat BFI Southbank\nBook: https://whatson.bfi.org.uk/Online/default.asp?doWork::WScontent::loadArticle=Load&BOparam::WScontent::loadArticle::article_id=84A5D871-5F97-4858-A797-F109417A0214&BOparam::WScontent::loadArticle::context_id=B9A8E89E-EF03-43DA-91EF-C290733585B8\nvia Pictures (pictures.london)
LOCATION:BFI Southbank\, Belvedere Road\, South Bank\, SE1 8XT
URL:https://whatson.bfi.org.uk/Online/default.asp?doWork::WScontent::loadArticle=Load&BOparam::WScontent::loadArticle::article_id=84A5D871-5F97-4858-A797-F109417A0214&BOparam::WScontent::loadArticle::context_id=B9A8E89E-EF03-43DA-91EF-C290733585B8
STATUS:CONFIRMED
END:VEVENT
END:VCALENDAR