BEGIN:VCALENDAR
VERSION:2.0
PRODID:-//Pictures London//Cinema Listings//EN
CALSCALE:GREGORIAN
METHOD:PUBLISH
X-WR-CALNAME:Pictures London Cinema
BEGIN:VEVENT
UID:bdd00fcb-75ab-4278-ba4d-4ae1038ef0e0@pictures.london
DTSTART:20260426T203000Z
DTEND:20260426T222700Z
SUMMARY:300 (2007) at Everyman King's Cross
DESCRIPTION:300 (2007)\nat Everyman King's Cross\nBook: https://purchase.everymancinema.com/launch/ticketing/108baa20-82e3-5c95-9829-5ad55429d5b2\nvia Pictures (pictures.london)
LOCATION:Everyman King's Cross\, Coal Drops Yard\, King's Cross\, N1C 4AG
URL:https://purchase.everymancinema.com/launch/ticketing/108baa20-82e3-5c95-9829-5ad55429d5b2
STATUS:CONFIRMED
END:VEVENT
END:VCALENDAR