BEGIN:VCALENDAR
VERSION:2.0
PRODID:-//Pictures London//Cinema Listings//EN
CALSCALE:GREGORIAN
METHOD:PUBLISH
X-WR-CALNAME:Pictures London Cinema
BEGIN:VEVENT
UID:bd34f1db-5df0-42e6-92e0-664c1f196491@pictures.london
DTSTART:20260428T173000Z
DTEND:20260428T190500Z
SUMMARY:Roar (1981) at The Nickel
DESCRIPTION:Roar (1981)\nat The Nickel\nFormat: DIGITAL\nBook: https://book.thenickel.co.uk/screening/289\nvia Pictures (pictures.london)
LOCATION:The Nickel\, 194 Upper Street\, Islington\, N1 1RQ
URL:https://book.thenickel.co.uk/screening/289
STATUS:CONFIRMED
END:VEVENT
END:VCALENDAR