BEGIN:VCALENDAR
VERSION:2.0
PRODID:-//Pictures London//Cinema Listings//EN
CALSCALE:GREGORIAN
METHOD:PUBLISH
X-WR-CALNAME:Pictures London Cinema
BEGIN:VEVENT
UID:bd305c9b-00bd-4de9-8c04-87f6c00ca3a4@pictures.london
DTSTART:20260426T164500Z
DTEND:20260426T184200Z
SUMMARY:300 (2007) at Everyman Barnet
DESCRIPTION:300 (2007)\nat Everyman Barnet\nBook: https://purchase.everymancinema.com/launch/ticketing/7e4ef83d-a10e-507b-b7ed-833a25e492b8\nvia Pictures (pictures.london)
LOCATION:Everyman Barnet\, Great North Road\, Barnet\, EN5 5SJ
URL:https://purchase.everymancinema.com/launch/ticketing/7e4ef83d-a10e-507b-b7ed-833a25e492b8
STATUS:CONFIRMED
END:VEVENT
END:VCALENDAR