BEGIN:VCALENDAR
VERSION:2.0
PRODID:-//Pictures London//Cinema Listings//EN
CALSCALE:GREGORIAN
METHOD:PUBLISH
X-WR-CALNAME:Pictures London Cinema
BEGIN:VEVENT
UID:bd27e593-c445-465a-b3f8-6538ffd87ec1@pictures.london
DTSTART:20260501T173000Z
DTEND:20260501T192900Z
SUMMARY:The Devil Wears Prada 2 (2026) at Everyman King's Cross
DESCRIPTION:The Devil Wears Prada 2 (2026)\nat Everyman King's Cross\nBook: https://purchase.everymancinema.com/launch/ticketing/556eba4a-957d-5638-9aed-e7609f3f1669\nvia Pictures (pictures.london)
LOCATION:Everyman King's Cross\, Coal Drops Yard\, King's Cross\, N1C 4AG
URL:https://purchase.everymancinema.com/launch/ticketing/556eba4a-957d-5638-9aed-e7609f3f1669
STATUS:CONFIRMED
END:VEVENT
END:VCALENDAR