BEGIN:VCALENDAR
VERSION:2.0
PRODID:-//Pictures London//Cinema Listings//EN
CALSCALE:GREGORIAN
METHOD:PUBLISH
X-WR-CALNAME:Pictures London Cinema
BEGIN:VEVENT
UID:bd1a178f-feed-44d3-8371-c215e30a1d44@pictures.london
DTSTART:20260430T183000Z
DTEND:20260430T203000Z
SUMMARY:PINK PALACE: DRESSED TO KILL (1980) at Rio Cinema
DESCRIPTION:PINK PALACE: DRESSED TO KILL (1980)\nat Rio Cinema\nBook: https://riocinema.org.uk/Rio.dll/WhatsOn?f=2464929\nvia Pictures (pictures.london)
LOCATION:Rio Cinema\, 107 Kingsland High Street\, Dalston\, E8 2PB
URL:https://riocinema.org.uk/Rio.dll/WhatsOn?f=2464929
STATUS:CONFIRMED
END:VEVENT
END:VCALENDAR