BEGIN:VCALENDAR
VERSION:2.0
PRODID:-//Pictures London//Cinema Listings//EN
CALSCALE:GREGORIAN
METHOD:PUBLISH
X-WR-CALNAME:Pictures London Cinema
BEGIN:VEVENT
UID:bc9fd459-a771-405f-a944-113d4b34e4d5@pictures.london
DTSTART:20260428T190000Z
DTEND:20260428T210600Z
SUMMARY:Hamnet (2025) at Coldharbour Blue
DESCRIPTION:Hamnet (2025)\nat Coldharbour Blue\nFormat: DIGITAL\nBook: https://www.coldharbourblue.com/event/hamnet-2/\nvia Pictures (pictures.london)
LOCATION:Coldharbour Blue\, 259-260 Hardess Street\, Loughborough Junction\, SE24 0HN
URL:https://www.coldharbourblue.com/event/hamnet-2/
STATUS:CONFIRMED
END:VEVENT
END:VCALENDAR