BEGIN:VCALENDAR
VERSION:2.0
PRODID:-//Pictures London//Cinema Listings//EN
CALSCALE:GREGORIAN
METHOD:PUBLISH
X-WR-CALNAME:Pictures London Cinema
BEGIN:VEVENT
UID:bc61dfb3-bd93-4aac-90ec-e8d48c1b05d4@pictures.london
DTSTART:20260501T140000Z
DTEND:20260501T155900Z
SUMMARY:The Devil Wears Prada 2 (2026) at Riverside Studios
DESCRIPTION:The Devil Wears Prada 2 (2026)\nat Riverside Studios\nBook: https://riversidestudios.co.uk/seats/172601/\nvia Pictures (pictures.london)
LOCATION:Riverside Studios\, 101 Queen Caroline Street\, Hammersmith\, W6 9BN
URL:https://riversidestudios.co.uk/seats/172601/
STATUS:CONFIRMED
END:VEVENT
END:VCALENDAR