BEGIN:VCALENDAR
VERSION:2.0
PRODID:-//Pictures London//Cinema Listings//EN
CALSCALE:GREGORIAN
METHOD:PUBLISH
X-WR-CALNAME:Pictures London Cinema
BEGIN:VEVENT
UID:bbd7de0e-401a-4f48-9c9b-6300d9301a2d@pictures.london
DTSTART:20260421T154000Z
DTEND:20260421T181700Z
SUMMARY:Project Hail Mary (2026) at Ealing Picturehouse
DESCRIPTION:Project Hail Mary (2026)\nat Ealing Picturehouse\nBook: https://www.picturehouses.com/movie-details/031/HO00017624/project-hail-mary\nvia Pictures (pictures.london)
LOCATION:Ealing Picturehouse\, The Ealing Cinema\, Ealing Green\, Ealing\, W5 2PA
URL:https://www.picturehouses.com/movie-details/031/HO00017624/project-hail-mary
STATUS:CONFIRMED
END:VEVENT
END:VCALENDAR