BEGIN:VCALENDAR
VERSION:2.0
PRODID:-//Pictures London//Cinema Listings//EN
CALSCALE:GREGORIAN
METHOD:PUBLISH
X-WR-CALNAME:Pictures London Cinema
BEGIN:VEVENT
UID:b97fbfe9-75ba-4786-a2e5-6720d7c8ebfd@pictures.london
DTSTART:20260423T200000Z
DTEND:20260423T212900Z
SUMMARY:Bait (2019) at Genesis Cinema
DESCRIPTION:Bait (2019)\nat Genesis Cinema\nBook: https://genesis.admit-one.co.uk/seats/?perfCode=9728\nvia Pictures (pictures.london)
LOCATION:Genesis Cinema\, 93-95 Mile End Road\, Mile End\, E1 4UJ
URL:https://genesis.admit-one.co.uk/seats/?perfCode=9728
STATUS:CONFIRMED
END:VEVENT
END:VCALENDAR