BEGIN:VCALENDAR
VERSION:2.0
PRODID:-//Pictures London//Cinema Listings//EN
CALSCALE:GREGORIAN
METHOD:PUBLISH
X-WR-CALNAME:Pictures London Cinema
BEGIN:VEVENT
UID:b9263a19-d165-4fdb-a55e-30375c4b3266@pictures.london
DTSTART:20260421T184500Z
DTEND:20260421T202500Z
SUMMARY:The Christophers (2026) at Picturehouse Central
DESCRIPTION:The Christophers (2026)\nat Picturehouse Central\nEvent: preview\nBook: https://www.picturehouses.com/movie-details/022/HO00017824/the-christophers-q-a-uk-premiere\nvia Pictures (pictures.london)
LOCATION:Picturehouse Central\, Corner of Great Windmill Street & Shaftesbury Avenue\, West End\, W1D 7DH
URL:https://www.picturehouses.com/movie-details/022/HO00017824/the-christophers-q-a-uk-premiere
STATUS:CONFIRMED
END:VEVENT
END:VCALENDAR