BEGIN:VCALENDAR
VERSION:2.0
PRODID:-//Pictures London//Cinema Listings//EN
CALSCALE:GREGORIAN
METHOD:PUBLISH
X-WR-CALNAME:Pictures London Cinema
BEGIN:VEVENT
UID:b919f3f1-622e-4f87-94be-c881ff1902de@pictures.london
DTSTART:20260421T130000Z
DTEND:20260421T150000Z
SUMMARY:AKIRA (2026 Re-release) (Subbed) (2026) at Everyman Canary Wharf
DESCRIPTION:AKIRA (2026 Re-release) (Subbed) (2026)\nat Everyman Canary Wharf\nFormat: DCP_4K\nBook: https://purchase.everymancinema.com/launch/ticketing/533cd8bb-f97e-529c-b6c0-2c2d89f9ca8a\nvia Pictures (pictures.london)
LOCATION:Everyman Canary Wharf\, Crossrail Place\, Canary Wharf\, E14 5NY
URL:https://purchase.everymancinema.com/launch/ticketing/533cd8bb-f97e-529c-b6c0-2c2d89f9ca8a
STATUS:CONFIRMED
END:VEVENT
END:VCALENDAR