BEGIN:VCALENDAR
VERSION:2.0
PRODID:-//Pictures London//Cinema Listings//EN
CALSCALE:GREGORIAN
METHOD:PUBLISH
X-WR-CALNAME:Pictures London Cinema
BEGIN:VEVENT
UID:b7ee81ec-fd32-43ca-acf0-77c71a83f710@pictures.london
DTSTART:20260421T193000Z
DTEND:20260421T212100Z
SUMMARY:Purple Rain (1984) at Rio Cinema
DESCRIPTION:Purple Rain (1984)\nat Rio Cinema\nBook: https://riocinema.org.uk/Rio.dll/WhatsOn?f=2383854\nvia Pictures (pictures.london)
LOCATION:Rio Cinema\, 107 Kingsland High Street\, Dalston\, E8 2PB
URL:https://riocinema.org.uk/Rio.dll/WhatsOn?f=2383854
STATUS:CONFIRMED
END:VEVENT
END:VCALENDAR