BEGIN:VCALENDAR
VERSION:2.0
PRODID:-//Pictures London//Cinema Listings//EN
CALSCALE:GREGORIAN
METHOD:PUBLISH
X-WR-CALNAME:Pictures London Cinema
BEGIN:VEVENT
UID:b76634ce-e1f6-490e-aaef-c25c86239d72@pictures.london
DTSTART:20260427T140000Z
DTEND:20260427T153900Z
SUMMARY:Seniors’ Free Matinee: The Trouble with Harry (1955) at BFI Southbank
DESCRIPTION:Seniors’ Free Matinee: The Trouble with Harry (1955)\nat BFI Southbank\nFormat: DIGITAL\nEvent: intro\nBook: https://whatson.bfi.org.uk/Online/default.asp?doWork::WScontent::search=1&BOparam::WScontent::search::article_search_id=25E7EA2E-291F-44F9-8EBC-E560154FDAEB&BOset::WScontent::SearchCriteria::search_criteria=Seniors%E2%80%99%20Free%20Matinee%3A%20The%20Trouble%20with%20Harry\nvia Pictures (pictures.london)
LOCATION:BFI Southbank\, Belvedere Road\, South Bank\, SE1 8XT
URL:https://whatson.bfi.org.uk/Online/default.asp?doWork::WScontent::search=1&BOparam::WScontent::search::article_search_id=25E7EA2E-291F-44F9-8EBC-E560154FDAEB&BOset::WScontent::SearchCriteria::search_criteria=Seniors%E2%80%99%20Free%20Matinee%3A%20The%20Trouble%20with%20Harry
STATUS:CONFIRMED
END:VEVENT
END:VCALENDAR