BEGIN:VCALENDAR
VERSION:2.0
PRODID:-//Pictures London//Cinema Listings//EN
CALSCALE:GREGORIAN
METHOD:PUBLISH
X-WR-CALNAME:Pictures London Cinema
BEGIN:VEVENT
UID:b728a8a1-2bbc-4b21-a2dc-d906cc039d81@pictures.london
DTSTART:20260422T130000Z
DTEND:20260422T150700Z
SUMMARY:Michael (2026) at Everyman Maida Vale
DESCRIPTION:Michael (2026)\nat Everyman Maida Vale\nBook: https://purchase.everymancinema.com/launch/ticketing/96d570e6-ba43-5ff0-a07a-91cf83abc912\nvia Pictures (pictures.london)
LOCATION:Everyman Maida Vale\, 215 Sutherland Avenue\, Maida Vale\, W9 1TT
URL:https://purchase.everymancinema.com/launch/ticketing/96d570e6-ba43-5ff0-a07a-91cf83abc912
STATUS:CONFIRMED
END:VEVENT
END:VCALENDAR