BEGIN:VCALENDAR
VERSION:2.0
PRODID:-//Pictures London//Cinema Listings//EN
CALSCALE:GREGORIAN
METHOD:PUBLISH
X-WR-CALNAME:Pictures London Cinema
BEGIN:VEVENT
UID:b70991de-1898-4e28-90a6-3a9e1f3e697c@pictures.london
DTSTART:20260421T200000Z
DTEND:20260421T221400Z
SUMMARY:Lee Cronin's The Mummy (2026) at Ealing Picturehouse
DESCRIPTION:Lee Cronin's The Mummy (2026)\nat Ealing Picturehouse\nBook: https://www.picturehouses.com/movie-details/031/HO00017903/lee-cronin-s-the-mummy\nvia Pictures (pictures.london)
LOCATION:Ealing Picturehouse\, The Ealing Cinema\, Ealing Green\, Ealing\, W5 2PA
URL:https://www.picturehouses.com/movie-details/031/HO00017903/lee-cronin-s-the-mummy
STATUS:CONFIRMED
END:VEVENT
END:VCALENDAR