BEGIN:VCALENDAR
VERSION:2.0
PRODID:-//Pictures London//Cinema Listings//EN
CALSCALE:GREGORIAN
METHOD:PUBLISH
X-WR-CALNAME:Pictures London Cinema
BEGIN:VEVENT
UID:b6c83314-c7f8-4b92-bfb8-769899ce2fe0@pictures.london
DTSTART:20260422T193000Z
DTEND:20260422T213700Z
SUMMARY:Michael (2026) at Everyman Broadgate
DESCRIPTION:Michael (2026)\nat Everyman Broadgate\nBook: https://purchase.everymancinema.com/launch/ticketing/7feda299-8296-549b-a761-598d5a24a267\nvia Pictures (pictures.london)
LOCATION:Everyman Broadgate\, Broadgate Circle\, Liverpool Street\, EC2M 2QS
URL:https://purchase.everymancinema.com/launch/ticketing/7feda299-8296-549b-a761-598d5a24a267
STATUS:CONFIRMED
END:VEVENT
END:VCALENDAR