BEGIN:VCALENDAR
VERSION:2.0
PRODID:-//Pictures London//Cinema Listings//EN
CALSCALE:GREGORIAN
METHOD:PUBLISH
X-WR-CALNAME:Pictures London Cinema
BEGIN:VEVENT
UID:b6b345e3-0057-49a4-947b-9715217d5b98@pictures.london
DTSTART:20260425T200000Z
DTEND:20260425T224000Z
SUMMARY:Thundercrack! (1975) at BFI Southbank
DESCRIPTION:Thundercrack! (1975)\nat BFI Southbank\nBook: https://whatson.bfi.org.uk/Online/default.asp?doWork::WScontent::loadArticle=Load&BOparam::WScontent::loadArticle::article_id=A96F3502-61C2-4FCC-BACA-08351D448F25&BOparam::WScontent::loadArticle::context_id=CE4B3779-3A95-4B67-8F9C-4799ECC692AF\nvia Pictures (pictures.london)
LOCATION:BFI Southbank\, Belvedere Road\, South Bank\, SE1 8XT
URL:https://whatson.bfi.org.uk/Online/default.asp?doWork::WScontent::loadArticle=Load&BOparam::WScontent::loadArticle::article_id=A96F3502-61C2-4FCC-BACA-08351D448F25&BOparam::WScontent::loadArticle::context_id=CE4B3779-3A95-4B67-8F9C-4799ECC692AF
STATUS:CONFIRMED
END:VEVENT
END:VCALENDAR