BEGIN:VCALENDAR
VERSION:2.0
PRODID:-//Pictures London//Cinema Listings//EN
CALSCALE:GREGORIAN
METHOD:PUBLISH
X-WR-CALNAME:Pictures London Cinema
BEGIN:VEVENT
UID:b687c934-452a-4478-b3ee-da560d1b80c8@pictures.london
DTSTART:20260520T173000Z
DTEND:20260520T193000Z
SUMMARY:WATER EMOJI X5 at Rio Cinema
DESCRIPTION:WATER EMOJI X5\nat Rio Cinema\nBook: https://riocinema.org.uk/Rio.dll/WhatsOn?f=2428677\nvia Pictures (pictures.london)
LOCATION:Rio Cinema\, 107 Kingsland High Street\, Dalston\, E8 2PB
URL:https://riocinema.org.uk/Rio.dll/WhatsOn?f=2428677
STATUS:CONFIRMED
END:VEVENT
END:VCALENDAR