BEGIN:VCALENDAR
VERSION:2.0
PRODID:-//Pictures London//Cinema Listings//EN
CALSCALE:GREGORIAN
METHOD:PUBLISH
X-WR-CALNAME:Pictures London Cinema
BEGIN:VEVENT
UID:b651ce5c-b8e4-4b35-88a8-e901a4640d9f@pictures.london
DTSTART:20260422T143000Z
DTEND:20260422T163700Z
SUMMARY:Michael (2026) at Everyman Hampstead
DESCRIPTION:Michael (2026)\nat Everyman Hampstead\nBook: https://purchase.everymancinema.com/launch/ticketing/13838ef6-0dc5-5349-9891-4a5975e25a4a\nvia Pictures (pictures.london)
LOCATION:Everyman Hampstead\, 5 Holly Bush Vale\, Hampstead\, NW3 1QE
URL:https://purchase.everymancinema.com/launch/ticketing/13838ef6-0dc5-5349-9891-4a5975e25a4a
STATUS:CONFIRMED
END:VEVENT
END:VCALENDAR