BEGIN:VCALENDAR
VERSION:2.0
PRODID:-//Pictures London//Cinema Listings//EN
CALSCALE:GREGORIAN
METHOD:PUBLISH
X-WR-CALNAME:Pictures London Cinema
BEGIN:VEVENT
UID:b5f86db1-039f-4ade-9329-287d85a8f3fa@pictures.london
DTSTART:20260421T162000Z
DTEND:20260421T185700Z
SUMMARY:Project Hail Mary (2026) at Curzon Kingston
DESCRIPTION:Project Hail Mary (2026)\nat Curzon Kingston\nBook: https://www.curzon.com/films/project-hail-mary/HO00006852/\nvia Pictures (pictures.london)
LOCATION:Curzon Kingston\, Richmond Road\, Kingston\, KT2 5BW
URL:https://www.curzon.com/films/project-hail-mary/HO00006852/
STATUS:CONFIRMED
END:VEVENT
END:VCALENDAR