BEGIN:VCALENDAR
VERSION:2.0
PRODID:-//Pictures London//Cinema Listings//EN
CALSCALE:GREGORIAN
METHOD:PUBLISH
X-WR-CALNAME:Pictures London Cinema
BEGIN:VEVENT
UID:b5d4d05d-8655-432e-91ce-335db3bb7ca3@pictures.london
DTSTART:20260421T164000Z
DTEND:20260421T185400Z
SUMMARY:Lee Cronin's The Mummy (2026) at Ealing Picturehouse
DESCRIPTION:Lee Cronin's The Mummy (2026)\nat Ealing Picturehouse\nBook: https://www.picturehouses.com/movie-details/031/HO00017903/lee-cronin-s-the-mummy\nvia Pictures (pictures.london)
LOCATION:Ealing Picturehouse\, The Ealing Cinema\, Ealing Green\, Ealing\, W5 2PA
URL:https://www.picturehouses.com/movie-details/031/HO00017903/lee-cronin-s-the-mummy
STATUS:CONFIRMED
END:VEVENT
END:VCALENDAR