BEGIN:VCALENDAR
VERSION:2.0
PRODID:-//Pictures London//Cinema Listings//EN
CALSCALE:GREGORIAN
METHOD:PUBLISH
X-WR-CALNAME:Pictures London Cinema
BEGIN:VEVENT
UID:b5836a01-4235-4918-a60d-288ff0bcc425@pictures.london
DTSTART:20260421T203000Z
DTEND:20260421T230700Z
SUMMARY:Project Hail Mary (2026) at Everyman Broadgate
DESCRIPTION:Project Hail Mary (2026)\nat Everyman Broadgate\nBook: https://purchase.everymancinema.com/launch/ticketing/dcc7f947-ae2c-5f02-96da-1780dc5847cf\nvia Pictures (pictures.london)
LOCATION:Everyman Broadgate\, Broadgate Circle\, Liverpool Street\, EC2M 2QS
URL:https://purchase.everymancinema.com/launch/ticketing/dcc7f947-ae2c-5f02-96da-1780dc5847cf
STATUS:CONFIRMED
END:VEVENT
END:VCALENDAR