BEGIN:VCALENDAR
VERSION:2.0
PRODID:-//Pictures London//Cinema Listings//EN
CALSCALE:GREGORIAN
METHOD:PUBLISH
X-WR-CALNAME:Pictures London Cinema
BEGIN:VEVENT
UID:b51ee5a4-c6c8-4406-8583-e13266ba0623@pictures.london
DTSTART:20260427T170000Z
DTEND:20260427T185200Z
SUMMARY:Romería (2025) at Curzon Aldgate
DESCRIPTION:Romería (2025)\nat Curzon Aldgate\nBook: https://www.curzon.com/films/romer-a/HO00006885/\nvia Pictures (pictures.london)
LOCATION:Curzon Aldgate\, 2 Whitechapel High Street\, Aldgate\, E1 8FA
URL:https://www.curzon.com/films/romer-a/HO00006885/
STATUS:CONFIRMED
END:VEVENT
END:VCALENDAR