BEGIN:VCALENDAR
VERSION:2.0
PRODID:-//Pictures London//Cinema Listings//EN
CALSCALE:GREGORIAN
METHOD:PUBLISH
X-WR-CALNAME:Pictures London Cinema
BEGIN:VEVENT
UID:b4fb2549-bd5b-4c2b-b405-cfbe3d0a4fea@pictures.london
DTSTART:20260425T114500Z
DTEND:20260425T131000Z
SUMMARY:Wallace & Gromit: The Curse of the Were-Rabbit (2005) at The Gate
DESCRIPTION:Wallace & Gromit: The Curse of the Were-Rabbit (2005)\nat The Gate\nEvent: special event\nBook: https://www.picturehouses.com/movie-details/016/HO00006914/wallace-gromit-curse-of-the-were-rabbit\nvia Pictures (pictures.london)
LOCATION:The Gate\, 87 Notting Hill Gate\, Notting Hill\, W11 3JE
URL:https://www.picturehouses.com/movie-details/016/HO00006914/wallace-gromit-curse-of-the-were-rabbit
STATUS:CONFIRMED
END:VEVENT
END:VCALENDAR