BEGIN:VCALENDAR
VERSION:2.0
PRODID:-//Pictures London//Cinema Listings//EN
CALSCALE:GREGORIAN
METHOD:PUBLISH
X-WR-CALNAME:Pictures London Cinema
BEGIN:VEVENT
UID:b45debc2-2c85-4822-9072-c96d8208b49d@pictures.london
DTSTART:20260424T223000Z
DTEND:20260425T004900Z
SUMMARY:Fight Club (1999) at Everyman Broadgate
DESCRIPTION:Fight Club (1999)\nat Everyman Broadgate\nFormat: DCP_4K\nBook: https://purchase.everymancinema.com/launch/ticketing/5c78d593-add6-5ca9-b001-51377c2ef291\nvia Pictures (pictures.london)
LOCATION:Everyman Broadgate\, Broadgate Circle\, Liverpool Street\, EC2M 2QS
URL:https://purchase.everymancinema.com/launch/ticketing/5c78d593-add6-5ca9-b001-51377c2ef291
STATUS:CONFIRMED
END:VEVENT
END:VCALENDAR