BEGIN:VCALENDAR
VERSION:2.0
PRODID:-//Pictures London//Cinema Listings//EN
CALSCALE:GREGORIAN
METHOD:PUBLISH
X-WR-CALNAME:Pictures London Cinema
BEGIN:VEVENT
UID:b4524285-b1a8-4ed4-8842-928d8ef3570c@pictures.london
DTSTART:20260422T133000Z
DTEND:20260422T153700Z
SUMMARY:Michael (2026) at Everyman Broadgate
DESCRIPTION:Michael (2026)\nat Everyman Broadgate\nBook: https://purchase.everymancinema.com/launch/ticketing/18a8a411-c8c6-55a8-8dcd-636cea7d154b\nvia Pictures (pictures.london)
LOCATION:Everyman Broadgate\, Broadgate Circle\, Liverpool Street\, EC2M 2QS
URL:https://purchase.everymancinema.com/launch/ticketing/18a8a411-c8c6-55a8-8dcd-636cea7d154b
STATUS:CONFIRMED
END:VEVENT
END:VCALENDAR