BEGIN:VCALENDAR
VERSION:2.0
PRODID:-//Pictures London//Cinema Listings//EN
CALSCALE:GREGORIAN
METHOD:PUBLISH
X-WR-CALNAME:Pictures London Cinema
BEGIN:VEVENT
UID:b3a91665-9ca5-4d9d-a39e-52dd93b2f806@pictures.london
DTSTART:20260421T162000Z
DTEND:20260421T185700Z
SUMMARY:Project Hail Mary (2026) at Crouch End Picturehouse
DESCRIPTION:Project Hail Mary (2026)\nat Crouch End Picturehouse\nBook: https://www.picturehouses.com/movie-details/024/HO00017624/project-hail-mary\nvia Pictures (pictures.london)
LOCATION:Crouch End Picturehouse\, 165 Tottenham Lane\, Crouch End\, N8 8HP
URL:https://www.picturehouses.com/movie-details/024/HO00017624/project-hail-mary
STATUS:CONFIRMED
END:VEVENT
END:VCALENDAR