BEGIN:VCALENDAR
VERSION:2.0
PRODID:-//Pictures London//Cinema Listings//EN
CALSCALE:GREGORIAN
METHOD:PUBLISH
X-WR-CALNAME:Pictures London Cinema
BEGIN:VEVENT
UID:b378ae05-0374-4e07-b285-6904daaf6286@pictures.london
DTSTART:20260501T130000Z
DTEND:20260501T145900Z
SUMMARY:The Devil Wears Prada 2 (2026) at Everyman Muswell Hill
DESCRIPTION:The Devil Wears Prada 2 (2026)\nat Everyman Muswell Hill\nBook: https://purchase.everymancinema.com/launch/ticketing/e5919d4f-e6ba-51da-91f4-495d71db4722\nvia Pictures (pictures.london)
LOCATION:Everyman Muswell Hill\, Fortis Green Road\, Muswell Hill\, N10 3TD
URL:https://purchase.everymancinema.com/launch/ticketing/e5919d4f-e6ba-51da-91f4-495d71db4722
STATUS:CONFIRMED
END:VEVENT
END:VCALENDAR