BEGIN:VCALENDAR
VERSION:2.0
PRODID:-//Pictures London//Cinema Listings//EN
CALSCALE:GREGORIAN
METHOD:PUBLISH
X-WR-CALNAME:Pictures London Cinema
BEGIN:VEVENT
UID:b3673216-5f4a-42bf-a0ec-1cc4beb93af2@pictures.london
DTSTART:20260421T150000Z
DTEND:20260421T163400Z
SUMMARY:undertone (2026) at Picturehouse Central
DESCRIPTION:undertone (2026)\nat Picturehouse Central\nBook: https://www.picturehouses.com/movie-details/022/HO00017807/undertone\nvia Pictures (pictures.london)
LOCATION:Picturehouse Central\, Corner of Great Windmill Street & Shaftesbury Avenue\, West End\, W1D 7DH
URL:https://www.picturehouses.com/movie-details/022/HO00017807/undertone
STATUS:CONFIRMED
END:VEVENT
END:VCALENDAR