BEGIN:VCALENDAR
VERSION:2.0
PRODID:-//Pictures London//Cinema Listings//EN
CALSCALE:GREGORIAN
METHOD:PUBLISH
X-WR-CALNAME:Pictures London Cinema
BEGIN:VEVENT
UID:b3629468-b34f-42b8-8c0c-0e8ee2be239b@pictures.london
DTSTART:20260421T193000Z
DTEND:20260421T213600Z
SUMMARY:Colours of Time (2025) at Cine Lumiere
DESCRIPTION:Colours of Time (2025)\nat Cine Lumiere\nBook: https://cinelumiere.savoysystems.co.uk/CineLumiere.dll/TSelectItems.waSelectItemsPrompt.TcsWebMenuItem_600.TcsWebTab_601.TcsPerformance_6687380.TcsSection_1928774\nvia Pictures (pictures.london)
LOCATION:Cine Lumiere\, 17 Queensberry Place\, South Kensington\, SW7 2DT
URL:https://cinelumiere.savoysystems.co.uk/CineLumiere.dll/TSelectItems.waSelectItemsPrompt.TcsWebMenuItem_600.TcsWebTab_601.TcsPerformance_6687380.TcsSection_1928774
STATUS:CONFIRMED
END:VEVENT
END:VCALENDAR