BEGIN:VCALENDAR
VERSION:2.0
PRODID:-//Pictures London//Cinema Listings//EN
CALSCALE:GREGORIAN
METHOD:PUBLISH
X-WR-CALNAME:Pictures London Cinema
BEGIN:VEVENT
UID:b3236d7e-d398-4980-ab6d-c6af3763131a@pictures.london
DTSTART:20260427T110000Z
DTEND:20260427T132800Z
SUMMARY:Sound of Falling (2025) at David Lean Cinema
DESCRIPTION:Sound of Falling (2025)\nat David Lean Cinema\nBook: https://tinyurl.com/5ee88nmk\nvia Pictures (pictures.london)
LOCATION:David Lean Cinema\, The Clocktower\, Croydon Airport\, Croydon\, CR0 0XZ
URL:https://tinyurl.com/5ee88nmk
STATUS:CONFIRMED
END:VEVENT
END:VCALENDAR