BEGIN:VCALENDAR
VERSION:2.0
PRODID:-//Pictures London//Cinema Listings//EN
CALSCALE:GREGORIAN
METHOD:PUBLISH
X-WR-CALNAME:Pictures London Cinema
BEGIN:VEVENT
UID:b2badfad-fadf-405a-b9f2-3bd73535cf19@pictures.london
DTSTART:20260425T170000Z
DTEND:20260425T185000Z
SUMMARY:Ghost in the Machine (2026) at Curzon Bloomsbury
DESCRIPTION:Ghost in the Machine (2026)\nat Curzon Bloomsbury\nBook: https://www.curzon.com/films/dochouse-ghost-in-the-machine/HO00006972/\nvia Pictures (pictures.london)
LOCATION:Curzon Bloomsbury\, The Brunswick Centre\, Bloomsbury\, WC1H 8AG
URL:https://www.curzon.com/films/dochouse-ghost-in-the-machine/HO00006972/
STATUS:CONFIRMED
END:VEVENT
END:VCALENDAR