BEGIN:VCALENDAR
VERSION:2.0
PRODID:-//Pictures London//Cinema Listings//EN
CALSCALE:GREGORIAN
METHOD:PUBLISH
X-WR-CALNAME:Pictures London Cinema
BEGIN:VEVENT
UID:b1dbcb85-e5f9-4d25-ad21-6754197dfb8f@pictures.london
DTSTART:20260424T183000Z
DTEND:20260424T185700Z
SUMMARY:I Was a Teenage Serial Killer + A Family Finds Entertainment (1993) at BFI Southbank
DESCRIPTION:I Was a Teenage Serial Killer + A Family Finds Entertainment (1993)\nat BFI Southbank\nBook: https://whatson.bfi.org.uk/Online/default.asp?doWork::WScontent::loadArticle=Load&BOparam::WScontent::loadArticle::article_id=8B57483B-68E4-43CB-9D60-307F3471E016&BOparam::WScontent::loadArticle::context_id=F5AEBB87-CB08-48D1-8666-960AF31F2380\nvia Pictures (pictures.london)
LOCATION:BFI Southbank\, Belvedere Road\, South Bank\, SE1 8XT
URL:https://whatson.bfi.org.uk/Online/default.asp?doWork::WScontent::loadArticle=Load&BOparam::WScontent::loadArticle::article_id=8B57483B-68E4-43CB-9D60-307F3471E016&BOparam::WScontent::loadArticle::context_id=F5AEBB87-CB08-48D1-8666-960AF31F2380
STATUS:CONFIRMED
END:VEVENT
END:VCALENDAR