BEGIN:VCALENDAR
VERSION:2.0
PRODID:-//Pictures London//Cinema Listings//EN
CALSCALE:GREGORIAN
METHOD:PUBLISH
X-WR-CALNAME:Pictures London Cinema
BEGIN:VEVENT
UID:b1bfeb8a-3c0c-4033-80ab-4a904507bdb9@pictures.london
DTSTART:20260424T181000Z
DTEND:20260424T193800Z
SUMMARY:Punishment Park (1971) at BFI Southbank
DESCRIPTION:Punishment Park (1971)\nat BFI Southbank\nBook: https://whatson.bfi.org.uk/Online/default.asp?doWork::WScontent::loadArticle=Load&BOparam::WScontent::loadArticle::article_id=CA14AC98-3E7B-405B-87ED-794AC61CB514&BOparam::WScontent::loadArticle::context_id=B0F29A6C-D5F8-441A-8451-E886F5E89AB6\nvia Pictures (pictures.london)
LOCATION:BFI Southbank\, Belvedere Road\, South Bank\, SE1 8XT
URL:https://whatson.bfi.org.uk/Online/default.asp?doWork::WScontent::loadArticle=Load&BOparam::WScontent::loadArticle::article_id=CA14AC98-3E7B-405B-87ED-794AC61CB514&BOparam::WScontent::loadArticle::context_id=B0F29A6C-D5F8-441A-8451-E886F5E89AB6
STATUS:CONFIRMED
END:VEVENT
END:VCALENDAR