BEGIN:VCALENDAR
VERSION:2.0
PRODID:-//Pictures London//Cinema Listings//EN
CALSCALE:GREGORIAN
METHOD:PUBLISH
X-WR-CALNAME:Pictures London Cinema
BEGIN:VEVENT
UID:af9ee597-dc7b-441f-8cc2-3f9a7bd92791@pictures.london
DTSTART:20260421T161500Z
DTEND:20260421T182300Z
SUMMARY:Kiss of the Spider Woman (2025) at Castle Sidcup
DESCRIPTION:Kiss of the Spider Woman (2025)\nat Castle Sidcup\nBook: https://castlesidcup.com/bookings/1810/\nvia Pictures (pictures.london)
LOCATION:Castle Sidcup\, 44 Main Road\, Sidcup\, DA14 6NJ
URL:https://castlesidcup.com/bookings/1810/
STATUS:CONFIRMED
END:VEVENT
END:VCALENDAR