BEGIN:VCALENDAR
VERSION:2.0
PRODID:-//Pictures London//Cinema Listings//EN
CALSCALE:GREGORIAN
METHOD:PUBLISH
X-WR-CALNAME:Pictures London Cinema
BEGIN:VEVENT
UID:af75801a-d0cf-4b52-a7a1-bcae396f1e46@pictures.london
DTSTART:20260422T181500Z
DTEND:20260422T202200Z
SUMMARY:Michael (2026) at Everyman Chelsea
DESCRIPTION:Michael (2026)\nat Everyman Chelsea\nBook: https://purchase.everymancinema.com/launch/ticketing/ae0348f7-91c7-55e4-9d0d-2c07948ed9df\nvia Pictures (pictures.london)
LOCATION:Everyman Chelsea\, 279 King's Road\, Chelsea\, SW3 3TD
URL:https://purchase.everymancinema.com/launch/ticketing/ae0348f7-91c7-55e4-9d0d-2c07948ed9df
STATUS:CONFIRMED
END:VEVENT
END:VCALENDAR