BEGIN:VCALENDAR
VERSION:2.0
PRODID:-//Pictures London//Cinema Listings//EN
CALSCALE:GREGORIAN
METHOD:PUBLISH
X-WR-CALNAME:Pictures London Cinema
BEGIN:VEVENT
UID:af695989-0649-4791-89bc-9611ffaec102@pictures.london
DTSTART:20260422T100000Z
DTEND:20260422T120700Z
SUMMARY:Michael (2026) at Everyman King's Cross
DESCRIPTION:Michael (2026)\nat Everyman King's Cross\nBook: https://purchase.everymancinema.com/launch/ticketing/1fa358a9-c6ea-5095-b8ab-681b58dfd681\nvia Pictures (pictures.london)
LOCATION:Everyman King's Cross\, Coal Drops Yard\, King's Cross\, N1C 4AG
URL:https://purchase.everymancinema.com/launch/ticketing/1fa358a9-c6ea-5095-b8ab-681b58dfd681
STATUS:CONFIRMED
END:VEVENT
END:VCALENDAR