BEGIN:VCALENDAR
VERSION:2.0
PRODID:-//Pictures London//Cinema Listings//EN
CALSCALE:GREGORIAN
METHOD:PUBLISH
X-WR-CALNAME:Pictures London Cinema
BEGIN:VEVENT
UID:af52f390-4870-4e30-aea7-a0f2e528d6b1@pictures.london
DTSTART:20260501T163000Z
DTEND:20260501T182900Z
SUMMARY:The Devil Wears Prada 2 (2026) at Everyman Chelsea
DESCRIPTION:The Devil Wears Prada 2 (2026)\nat Everyman Chelsea\nBook: https://purchase.everymancinema.com/launch/ticketing/b22ff512-ca7d-5be9-a62f-51864e7881a5\nvia Pictures (pictures.london)
LOCATION:Everyman Chelsea\, 279 King's Road\, Chelsea\, SW3 3TD
URL:https://purchase.everymancinema.com/launch/ticketing/b22ff512-ca7d-5be9-a62f-51864e7881a5
STATUS:CONFIRMED
END:VEVENT
END:VCALENDAR