BEGIN:VCALENDAR
VERSION:2.0
PRODID:-//Pictures London//Cinema Listings//EN
CALSCALE:GREGORIAN
METHOD:PUBLISH
X-WR-CALNAME:Pictures London Cinema
BEGIN:VEVENT
UID:aeecefd0-5712-46b3-a7aa-b2dd31c91b20@pictures.london
DTSTART:20260424T191500Z
DTEND:20260424T211500Z
SUMMARY:Akira (4K Restoration) at Phoenix Cinema
DESCRIPTION:Akira (4K Restoration)\nat Phoenix Cinema\nFormat: DCP_4K\nBook: https://www.phoenixcinema.co.uk/PhoenixCinemaLondon.dll/WhatsOn?f=464858\nvia Pictures (pictures.london)
LOCATION:Phoenix Cinema\, 52 High Road\, East Finchley\, N2 9PJ
URL:https://www.phoenixcinema.co.uk/PhoenixCinemaLondon.dll/WhatsOn?f=464858
STATUS:CONFIRMED
END:VEVENT
END:VCALENDAR