BEGIN:VCALENDAR
VERSION:2.0
PRODID:-//Pictures London//Cinema Listings//EN
CALSCALE:GREGORIAN
METHOD:PUBLISH
X-WR-CALNAME:Pictures London Cinema
BEGIN:VEVENT
UID:aeb08eb3-f1a1-4eee-8c82-cac3c0f128d7@pictures.london
DTSTART:20260422T163000Z
DTEND:20260422T183700Z
SUMMARY:Michael (2026) at West Norwood Picturehouse
DESCRIPTION:Michael (2026)\nat West Norwood Picturehouse\nBook: https://www.picturehouses.com/movie-details/023/HO00017772/michael\nvia Pictures (pictures.london)
LOCATION:West Norwood Picturehouse\, The Old Library\, 14-16 Knight's Hill\, West Norwood\, SE27 9NX
URL:https://www.picturehouses.com/movie-details/023/HO00017772/michael
STATUS:CONFIRMED
END:VEVENT
END:VCALENDAR