BEGIN:VCALENDAR
VERSION:2.0
PRODID:-//Pictures London//Cinema Listings//EN
CALSCALE:GREGORIAN
METHOD:PUBLISH
X-WR-CALNAME:Pictures London Cinema
BEGIN:VEVENT
UID:aea3f545-1380-4c75-8d1a-9b0cdb0cc994@pictures.london
DTSTART:20260528T173000Z
DTEND:20260528T190100Z
SUMMARY:Faraway Paradise (2025) at Rio Cinema
DESCRIPTION:Faraway Paradise (2025)\nat Rio Cinema\nEvent: premiere\nBook: https://riocinema.org.uk/Rio.dll/WhatsOn?f=2239065\nvia Pictures (pictures.london)
LOCATION:Rio Cinema\, 107 Kingsland High Street\, Dalston\, E8 2PB
URL:https://riocinema.org.uk/Rio.dll/WhatsOn?f=2239065
STATUS:CONFIRMED
END:VEVENT
END:VCALENDAR